BEGIN:VCALENDAR
VERSION:2.0
PRODID:icalendar-ruby
CALSCALE:GREGORIAN
METHOD:PUBLISH
BEGIN:VEVENT
DTSTAMP:20260419T171953Z
UID:5-639185@memorialdrivebiblefellowship.com
DTSTART:20250629T153000Z
DTEND:20250629T163000Z
CLASS:PUBLIC
CREATED:20260419T110545
DESCRIPTION:Sunday Worship
LAST-MODIFIED:20260419T110545
LOCATION:
SUMMARY:Sunday Worship
URL;VALUE=URI:https://www.memorialdrivebiblefellowship.com/events/sunday-wo
 rship/2025-06-29
END:VEVENT
END:VCALENDAR
