BEGIN:VCALENDAR
VERSION:2.0
PRODID:icalendar-ruby
CALSCALE:GREGORIAN
METHOD:PUBLISH
BEGIN:VEVENT
DTSTAMP:20260419T152852Z
UID:5-638747@memorialdrivebiblefellowship.com
DTSTART:20250622T153000Z
DTEND:20250622T163000Z
CLASS:PUBLIC
CREATED:20260419T072330
DESCRIPTION:Sunday Worship
LAST-MODIFIED:20260419T072330
LOCATION:
SUMMARY:Sunday Worship
URL;VALUE=URI:https://www.memorialdrivebiblefellowship.com/events/sunday-wo
 rship/2025-06-22
END:VEVENT
END:VCALENDAR
