BEGIN:VCALENDAR
VERSION:2.0
PRODID:icalendar-ruby
CALSCALE:GREGORIAN
METHOD:PUBLISH
BEGIN:VEVENT
DTSTAMP:20260421T083630Z
UID:5-643561@memorialdrivebiblefellowship.com
DTSTART:20250608T153000Z
DTEND:20250608T163000Z
CLASS:PUBLIC
CREATED:20260420T193405
DESCRIPTION:Sunday Worship
LAST-MODIFIED:20260420T193405
LOCATION:
SUMMARY:Sunday Worship
URL;VALUE=URI:https://www.memorialdrivebiblefellowship.com/events/sunday-wo
 rship/2025-06-08
END:VEVENT
END:VCALENDAR
